BEGIN:VCALENDAR
VERSION:2.0
PRODID:-//SPCA - 香港愛護動物協會 - ECPv6.13.1//NONSGML v1.0//EN
CALSCALE:GREGORIAN
METHOD:PUBLISH
X-WR-CALNAME:SPCA - 香港愛護動物協會
X-ORIGINAL-URL:https://www.spca.org.hk/zh-hant/
X-WR-CALDESC:Events for SPCA - 香港愛護動物協會
REFRESH-INTERVAL;VALUE=DURATION:PT1H
X-Robots-Tag:noindex
X-PUBLISHED-TTL:PT1H
BEGIN:VTIMEZONE
TZID:Asia/Hong_Kong
BEGIN:STANDARD
TZOFFSETFROM:+0800
TZOFFSETTO:+0800
TZNAME:HKT
DTSTART:20251231T160000
END:STANDARD
END:VTIMEZONE
BEGIN:VEVENT
DTSTART;VALUE=DATE:20260426
DTEND;VALUE=DATE:20260426
DTSTAMP:20260420T031526
CREATED:20260402T022022Z
LAST-MODIFIED:20260402T062730Z
UID:10001577-1777161600-1777247999@www.spca.org.hk
SUMMARY:青衣中心週末導賞團：動物救援主題
DESCRIPTION:解密動物救援背後的無名英雄
URL:https://www.spca.org.hk/zh-hant/events_calendar/tsing-yi-weekend-tour-animal-rescue-theme/
LOCATION:愛護動物協會賽馬會百周年中心（青衣中心）\, 青衣長輝路38號
CATEGORIES:會員活動
ATTACH;FMTTYPE=image/jpeg:https://www.spca.org.hk/wp-content/uploads/2026/01/TY-weekend-tour-website-banner620x500.jpg
END:VEVENT
BEGIN:VEVENT
DTSTART;VALUE=DATE:20260428
DTEND;VALUE=DATE:20260428
DTSTAMP:20260420T031526
CREATED:20260413T011534Z
LAST-MODIFIED:20260413T085756Z
UID:10001579-1777334400-1777420799@www.spca.org.hk
SUMMARY:「毛孩人生規劃」免費講座: 了解中醫如何支援寵物健康
DESCRIPTION:規劃未來．守護摯愛
URL:https://www.spca.org.hk/zh-hant/events_calendar/paws-to-plan-life-planning-for-pets-and-owners-2/
LOCATION:香港總部（灣仔中心）\, 香港灣仔運盛街5號\, Hong Kong
CATEGORIES:會員活動
ATTACH;FMTTYPE=image/jpeg:https://www.spca.org.hk/wp-content/uploads/2026/04/Paws-for-Plan_EVERON-PETS_620x500_TC.jpg
END:VEVENT
END:VCALENDAR